BEGIN:VCALENDAR
VERSION:2.0
PRODID:-//Kolleg Querwege - ECPv6.15.20//NONSGML v1.0//EN
CALSCALE:GREGORIAN
METHOD:PUBLISH
X-WR-CALNAME:Kolleg Querwege
X-ORIGINAL-URL:https://www.kolleg-querwege.de
X-WR-CALDESC:Veranstaltungen für Kolleg Querwege
REFRESH-INTERVAL;VALUE=DURATION:PT1H
X-Robots-Tag:noindex
X-PUBLISHED-TTL:PT1H
BEGIN:VTIMEZONE
TZID:Europe/Berlin
BEGIN:DAYLIGHT
TZOFFSETFROM:+0100
TZOFFSETTO:+0200
TZNAME:CEST
DTSTART:20190331T010000
END:DAYLIGHT
BEGIN:STANDARD
TZOFFSETFROM:+0200
TZOFFSETTO:+0100
TZNAME:CET
DTSTART:20191027T010000
END:STANDARD
BEGIN:DAYLIGHT
TZOFFSETFROM:+0100
TZOFFSETTO:+0200
TZNAME:CEST
DTSTART:20200329T010000
END:DAYLIGHT
BEGIN:STANDARD
TZOFFSETFROM:+0200
TZOFFSETTO:+0100
TZNAME:CET
DTSTART:20201025T010000
END:STANDARD
BEGIN:DAYLIGHT
TZOFFSETFROM:+0100
TZOFFSETTO:+0200
TZNAME:CEST
DTSTART:20210328T010000
END:DAYLIGHT
BEGIN:STANDARD
TZOFFSETFROM:+0200
TZOFFSETTO:+0100
TZNAME:CET
DTSTART:20211031T010000
END:STANDARD
END:VTIMEZONE
BEGIN:VEVENT
DTSTART;TZID=Europe/Berlin:20201022T150000
DTEND;TZID=Europe/Berlin:20201022T170000
DTSTAMP:20260425T220718
CREATED:20200701T065945Z
LAST-MODIFIED:20200908T080353Z
UID:10000323-1603378800-1603386000@www.kolleg-querwege.de
SUMMARY:Online-Seminar: Pädagogik für alle Fälle – Sind die Grundpfeiler der traumasensiblen Arbeit eine Garantie für gelingende\, pädagogische Begegnungen?
DESCRIPTION:Diese Veranstaltung ist leider nicht mehr buchbar. Die nächste Durchführung ist für das erste Halbjahr 2021 geplant.  \nDie Weiterbildung besteht aus 2 Modulen. In diesem Seminar werden wir gemeinsam der Frage auf den Grund gehen\, ob es eine pädagogische Haltung gibt\, die sich für jede Situation im Berufsalltag eignet. Sei es im Kindergarten\, in der Schule\, in den Einrichtungen der ambulanten/stationären Jugendhilfe oder bei der Betreuung von Erwachsenen. Es ist der Versuch eine allgemeine Sichtweise zu entwickeln\, anhand derer sich praktische Methoden und Konzepte ableiten lassen. \nModul 1 am 22.9.2020: Wir werden uns mit den Grundpfeilern der traumasensiblen Arbeit vertraut machen. Dies verfolgt das Ziel ein Fundament zu bauen\, auf welchem praktische Methoden und institutionelle Rahmenbedingungen aufbauen und abgeleitet werden können. \nModul 2 am 22.10.2020: Aufbauend auf den Grundlagen und mit Ihren Erfahrungen aus dem eigenen Arbeitsfeld\, wird im zweiten Modul vor allem Platz für Ihre persönlichen Sichtweisen und Fragen sein. Mit einer geeigneten Methode wählen wir die Schwerpunkte nach Ihrem Bedarf\, die ich für Sie inhaltlich aufbereiten werde. \nInnerhalb der 2 Module werden Kenntnisse vermittelt und die Teilnehmer*innen aktiv einbezogen\, sodass der Inhalt an die Bedarfe angepasst werden kann. \nDie beiden Module sind nur zusammen buchbar. Sie bauen inhaltlich direkt aufeinander auf. \nFür die Reflexionsphase zwischen den beiden Modulen werden Materialien bereitgestellt. \nSeminarleitung: Marvin David (Erziehungswissenschaftler mit Schwerpunkt traumasensible Arbeit und reicher Praxis auf diesem Feld) \nTeilnehmerpreis für beide Module: 45 € zzgl. Ticketverkaufsgebühren \nAnmeldung und Bezahlung \n(Sie erhalten mit dem Ticket den Zugang zum Online-Webinar.) \n  \nOnline-Webinar
URL:https://www.kolleg-querwege.de/weiterbildung/webinar-paedagogik-fuer-alle-faelle-sind-die-grundpfeiler-der-traumasensiblen-arbeit-eine-garantie-fuer-gelingende-paedagogische-begegnungen/2020-10-22/
LOCATION:Online-Webinar
ORGANIZER;CN="Kolleg des QuerWege":MAILTO:kolleg@querwege.de
END:VEVENT
BEGIN:VEVENT
DTSTART;TZID=Europe/Berlin:20200922T150000
DTEND;TZID=Europe/Berlin:20200922T170000
DTSTAMP:20260425T220718
CREATED:20200701T065945Z
LAST-MODIFIED:20200908T080353Z
UID:10000322-1600786800-1600794000@www.kolleg-querwege.de
SUMMARY:Online-Seminar: Pädagogik für alle Fälle – Sind die Grundpfeiler der traumasensiblen Arbeit eine Garantie für gelingende\, pädagogische Begegnungen?
DESCRIPTION:Diese Veranstaltung ist leider nicht mehr buchbar. Die nächste Durchführung ist für das erste Halbjahr 2021 geplant.  \nDie Weiterbildung besteht aus 2 Modulen. In diesem Seminar werden wir gemeinsam der Frage auf den Grund gehen\, ob es eine pädagogische Haltung gibt\, die sich für jede Situation im Berufsalltag eignet. Sei es im Kindergarten\, in der Schule\, in den Einrichtungen der ambulanten/stationären Jugendhilfe oder bei der Betreuung von Erwachsenen. Es ist der Versuch eine allgemeine Sichtweise zu entwickeln\, anhand derer sich praktische Methoden und Konzepte ableiten lassen. \nModul 1 am 22.9.2020: Wir werden uns mit den Grundpfeilern der traumasensiblen Arbeit vertraut machen. Dies verfolgt das Ziel ein Fundament zu bauen\, auf welchem praktische Methoden und institutionelle Rahmenbedingungen aufbauen und abgeleitet werden können. \nModul 2 am 22.10.2020: Aufbauend auf den Grundlagen und mit Ihren Erfahrungen aus dem eigenen Arbeitsfeld\, wird im zweiten Modul vor allem Platz für Ihre persönlichen Sichtweisen und Fragen sein. Mit einer geeigneten Methode wählen wir die Schwerpunkte nach Ihrem Bedarf\, die ich für Sie inhaltlich aufbereiten werde. \nInnerhalb der 2 Module werden Kenntnisse vermittelt und die Teilnehmer*innen aktiv einbezogen\, sodass der Inhalt an die Bedarfe angepasst werden kann. \nDie beiden Module sind nur zusammen buchbar. Sie bauen inhaltlich direkt aufeinander auf. \nFür die Reflexionsphase zwischen den beiden Modulen werden Materialien bereitgestellt. \nSeminarleitung: Marvin David (Erziehungswissenschaftler mit Schwerpunkt traumasensible Arbeit und reicher Praxis auf diesem Feld) \nTeilnehmerpreis für beide Module: 45 € zzgl. Ticketverkaufsgebühren \nAnmeldung und Bezahlung \n(Sie erhalten mit dem Ticket den Zugang zum Online-Webinar.) \n  \nOnline-Webinar
URL:https://www.kolleg-querwege.de/weiterbildung/webinar-paedagogik-fuer-alle-faelle-sind-die-grundpfeiler-der-traumasensiblen-arbeit-eine-garantie-fuer-gelingende-paedagogische-begegnungen/2020-09-22/
LOCATION:Online-Webinar
ORGANIZER;CN="Kolleg des QuerWege":MAILTO:kolleg@querwege.de
END:VEVENT
BEGIN:VEVENT
DTSTART;TZID=Europe/Berlin:20200609T153000
DTEND;TZID=Europe/Berlin:20200609T170000
DTSTAMP:20260425T220718
CREATED:20200515T114628Z
LAST-MODIFIED:20200529T093314Z
UID:10000310-1591716600-1591722000@www.kolleg-querwege.de
SUMMARY:Webinar: Die Kolleg*innen kommen zurück - zwischen Freude und vorsichtigem Abwarten. Teamdynamiken erkennen und bearbeiten.
DESCRIPTION:Nach einer Zeit des Lockdowns kommen nun die Teams wieder in den Einrichtungen zusammen. Jede Person bringt damit auch ihre eigenen Erfahrungen\, Erlebnisse und Gefühle aus dieser Krisenzeit in den Arbeitsalltag mit. Veränderungsprozesse werden von jeder Person unterschiedlich barbeitet. Neben der Freude aufs gemeinsame Arbeiten wird es auch eine eher abwartende Haltung geben. Wie gehen wir also mit den Dynamiken\, die nun zu beachten sind\, um? Die Methode des Lean-Coffee\, die sich hervorragend für die Situation anbietet\, wird vorgestellt. \nZeit: 09.06.2020\, 15:30- 17:00 Uhr \nWebinarleitung: Elke Lorenz und Anke Mamat \nTeilnehmerpreis: 20 € zzgl. Ticketverkaufsgebühren \nAnmeldung und Bezahlung:  über Eventbrite \n(Sie erhalten mit dem Ticket den Zugang zum Online-Webinar.) \nOnline-Webinar
URL:https://www.kolleg-querwege.de/weiterbildung/kolleg-innen-kommen-zurueck/
LOCATION:Online-Webinar
END:VEVENT
END:VCALENDAR