BEGIN:VCALENDAR
VERSION:2.0
PRODID:-//Kolleg Querwege - ECPv6.15.20//NONSGML v1.0//EN
CALSCALE:GREGORIAN
METHOD:PUBLISH
X-WR-CALNAME:Kolleg Querwege
X-ORIGINAL-URL:https://www.kolleg-querwege.de
X-WR-CALDESC:Veranstaltungen für Kolleg Querwege
REFRESH-INTERVAL;VALUE=DURATION:PT1H
X-Robots-Tag:noindex
X-PUBLISHED-TTL:PT1H
BEGIN:VTIMEZONE
TZID:Europe/Berlin
BEGIN:DAYLIGHT
TZOFFSETFROM:+0100
TZOFFSETTO:+0200
TZNAME:CEST
DTSTART:20190331T010000
END:DAYLIGHT
BEGIN:STANDARD
TZOFFSETFROM:+0200
TZOFFSETTO:+0100
TZNAME:CET
DTSTART:20191027T010000
END:STANDARD
BEGIN:DAYLIGHT
TZOFFSETFROM:+0100
TZOFFSETTO:+0200
TZNAME:CEST
DTSTART:20200329T010000
END:DAYLIGHT
BEGIN:STANDARD
TZOFFSETFROM:+0200
TZOFFSETTO:+0100
TZNAME:CET
DTSTART:20201025T010000
END:STANDARD
BEGIN:DAYLIGHT
TZOFFSETFROM:+0100
TZOFFSETTO:+0200
TZNAME:CEST
DTSTART:20210328T010000
END:DAYLIGHT
BEGIN:STANDARD
TZOFFSETFROM:+0200
TZOFFSETTO:+0100
TZNAME:CET
DTSTART:20211031T010000
END:STANDARD
END:VTIMEZONE
BEGIN:VEVENT
DTSTART;TZID=Europe/Berlin:20201105T140000
DTEND;TZID=Europe/Berlin:20201105T180000
DTSTAMP:20260426T034420
CREATED:20200916T091514Z
LAST-MODIFIED:20201102T090920Z
UID:10000325-1604584800-1604599200@www.kolleg-querwege.de
SUMMARY:Mut oder Profession? Was braucht's für eine gute Zusammenarbeit im Klassenzimmer?
DESCRIPTION:Dieses Angebot ist nicht mehr buchbar. \nDas Seminar hebt auf das Professionalisierungsdilemma der Schulbegleitung ab und beleuchtet diesbezüglich die Ausgangslage für die Zusammenarbeit in Schule näher. Auf der Grundlage dieses Verständnisses werden Strategien erarbeitet und Hinweise gegeben\, wie eine gute Gestaltung von Zusammenarbeit und Kooperation dennoch gelingen kann.  \n\nTheoretischer Input & Diskussion\nDas Einbringen eigener Erfahrungen ist erwünscht!\n\nReferentin: Anne-Katrin Thierschmidt (Dipl. Pädagogin\, Mediatorin\, Beraterin für Inklusionsprozesse\, Leiterin des Bereichs Individuelle Hilfen bei QuerWege e.V.) \nTeilnehmer*innenpreis: 35€ zzgl. Ticketverkaufsgebühren \nAnmeldung und Bezahlung \nMitarbeiter*innen der IH von QuerWege können einen Antrag auf Weiterbildung stellen. \nDienstleistungszentrum
URL:https://www.kolleg-querwege.de/weiterbildung/mut-oder-profession-was-brauchts-fuer-eine-gute-zusammenarbeit-im-klassenzimmer/
LOCATION:Dienstleistungszentrum\, Keßlerstraße 27\, Jena\, Thüringen\, 07745\, Deutschland
END:VEVENT
END:VCALENDAR